BEGIN:VCALENDAR
VERSION:2.0
PRODID:-//pretix//pretix.eu//
BEGIN:VTIMEZONE
TZID:Europe/Berlin
BEGIN:STANDARD
DTSTART:20001029T040000
RRULE:FREQ=YEARLY;BYDAY=-1SU;BYMONTH=10
TZNAME:CET
TZOFFSETFROM:+0200
TZOFFSETTO:+0100
END:STANDARD
BEGIN:DAYLIGHT
DTSTART:20000326T030000
RRULE:FREQ=YEARLY;BYDAY=-1SU;BYMONTH=3
TZNAME:CEST
TZOFFSETFROM:+0100
TZOFFSETTO:+0200
END:DAYLIGHT
END:VTIMEZONE
BEGIN:VEVENT
UID:pretix-fakultaetrw-rw-abschluss-26-0@ticket.fakultaet-rw.de
DTSTART;TZID=Europe/Berlin:20260912T160000
DTEND;TZID=Europe/Berlin:20260912T193000
DESCRIPTION:Tickets: https://ticket.fakultaet-rw.de/rw-abschluss-26/\nEinla
 ss: 12.09.2026 15:00\nVeranstalter: Rechts- und Wirtschaftswissenschaftlic
 he Fakultät
DTSTAMP:20260425T041230Z
LOCATION:Audimax\, Universität Bayreuth\, Universitätsstraße 30\, 95447 
 Bayreuth\, Deutschland
SUMMARY:Abschlussfeier 2026
END:VEVENT
END:VCALENDAR
